BEGIN:VCALENDAR
PRODID:-//kirchenweb.ch gmbh//veranstaltungsausgabe v2.0//DE
VERSION:2.0
METHOD:PUBLISH
BEGIN:VEVENT
DTSTART:20240913T083000Z
DTEND:20240913T093000Z
LOCATION:Pfarrkirche Gersau\, \,
TRANSP:OPAQUE
SEQUENCE:0
UID:685-veranstaltung@kirchgemeinde-gersau.ch
DTSTAMP:20240910T073138Z
DESCRIPTION:Kontakt: sandra.schilliger@kirchgemeinde-gersau.ch\n\nWeitere
  Infos: https://www.kirchgemeinde-gersau.ch/veranstaltung/685
SUMMARY:Beerdigung Ruth Käppeli-Ineichen
PRIORITY:5
X-MICROSOFT-CDO-IMPORTANCE:1
CLASS:PUBLIC
END:VEVENT
END:VCALENDAR
