BEGIN:VCALENDAR
PRODID:-//kirchenweb.ch gmbh//veranstaltungsausgabe v2.0//DE
VERSION:2.0
METHOD:PUBLISH
BEGIN:VEVENT
DTSTART:20240911T153000Z
DTEND:20240911T173000Z
LOCATION:Begenungsraum\, \,
TRANSP:OPAQUE
SEQUENCE:0
UID:669-veranstaltung@kirchgemeinde-gersau.ch
DTSTAMP:20240829T091851Z
DESCRIPTION:Kontakt: sandra.schilliger@kirchgemeinde-gersau.ch\n\nWeitere
  Infos: https://www.kirchgemeinde-gersau.ch/veranstaltung/669
SUMMARY:Firmlinge
PRIORITY:5
X-MICROSOFT-CDO-IMPORTANCE:1
CLASS:PUBLIC
END:VEVENT
END:VCALENDAR
