BEGIN:VCALENDAR
PRODID:-//kirchenweb.ch gmbh//veranstaltungsausgabe v2.0//DE
VERSION:2.0
METHOD:PUBLISH
BEGIN:VEVENT
DTSTART:20240907T113000Z
DTEND:20240907T123000Z
LOCATION:Kindli\, \,
TRANSP:OPAQUE
SEQUENCE:0
UID:654-veranstaltung@kirchgemeinde-gersau.ch
DTSTAMP:20240822T062327Z
DESCRIPTION:Kontakt: sandra.schilliger@kirchgemeinde-gersau.ch\n\nWeitere
  Infos: https://www.kirchgemeinde-gersau.ch/veranstaltung/654
SUMMARY:Hochzeit Ziegler Lars und Lara
PRIORITY:5
X-MICROSOFT-CDO-IMPORTANCE:1
CLASS:PUBLIC
END:VEVENT
END:VCALENDAR
