BEGIN:VCALENDAR
PRODID:-//kirchenweb.ch gmbh//veranstaltungsausgabe v2.0//DE
VERSION:2.0
METHOD:PUBLISH
BEGIN:VEVENT
DTSTART:20240914T091500Z
DTEND:20240914T101500Z
LOCATION:Flüeli-Ranft\, \,
TRANSP:OPAQUE
SEQUENCE:0
UID:652-veranstaltung@kirchgemeinde-gersau.ch
DTSTAMP:20240813T124757Z
DESCRIPTION:Traditionell findet die Wallfahrt des Inneren Landes Schwyz in
  den Ranft und nach Sachseln am 2. September-Samstag statt. Behörden und
  Seelsorger der Bezirke Schwyz und Gersau freuen sich\, wenn auch dieses
  Jahr viele Pilger den Weg zu unserem Landespatron finden - und dabei auch
  immer mehr erkennen\, welche wichtige Rolle bei der Berufung des Heiligen
  seine Frau Dorothee gespielt und was auch sie uns heute zu sagen hat.
 \nProgramm der Landeswallfahrt \n\n\nKontakt:
  urs.heini@kirchgemeinde-gersau.ch\n\nWeitere Infos:
  https://www.kirchgemeinde-gersau.ch/veranstaltung/652
SUMMARY:Landeswallfahrt zum Bruder Klaus
PRIORITY:5
X-MICROSOFT-CDO-IMPORTANCE:1
CLASS:PUBLIC
END:VEVENT
END:VCALENDAR
