BEGIN:VCALENDAR
PRODID:-//kirchenweb.ch gmbh//veranstaltungsausgabe v2.0//DE
VERSION:2.0
METHOD:PUBLISH
BEGIN:VEVENT
DTSTART:20240904T170000Z
DTEND:20240904T180000Z
LOCATION:Pfarrkirche Gersau\, \,
TRANSP:OPAQUE
SEQUENCE:0
UID:641-veranstaltung@kirchgemeinde-gersau.ch
DTSTAMP:20240813T125003Z
DESCRIPTION:Zum 200. Geburtstag von Anton Bruckner\nZu Lebzeiten als
  Organist zwar berühmt\, als Komponist hingegen oft verlacht\, ist Anton
  Bruckner (1824-1996) heute einer der bedeutendsten Sinfoniker –
  Beethoven und Brahms ebenbürtig. Doch auch für die Kirche hat Bruckner
  Grosses geleistet: Seine Messen und Motetten sind absolute Höhepunkte
  der Geistlichen Musik und stellen quasi das katholische Äquivalent zu
  Bachs lutherischen Kantaten und Oratorien dar. Wenig bekannt hingegen
  sind seine seltenen Werke für Orgel (Bruckner war ein grosser
  Improvisator) sowie seine Lieder und Gesänge. Im Geburtstagkonzert am
  Mittwoch\, den 4. September\, 19 Uhr kommen deshalb ausgewählte Werke
  dieser Gattung zu Gehör. Es singt die international tätige Altistin
  Lara Morger\, begleitet vom Organisten Alois Koch. Der Freundeskreis der
  Gersauer Orgel lädt alle Bruckner-Liebhaber zu diesem besonderen Konzert
  ein.\n\n\nKontakt: urs.heini@kirchgemeinde-gersau.ch\n\nWeitere Infos:
  https://www.kirchgemeinde-gersau.ch/veranstaltung/641
SUMMARY:Konzert Freundeskreis der Gersauer Orgel
PRIORITY:5
X-MICROSOFT-CDO-IMPORTANCE:1
CLASS:PUBLIC
END:VEVENT
END:VCALENDAR
