BEGIN:VCALENDAR
PRODID:-//kirchenweb.ch gmbh//veranstaltungsausgabe v2.0//DE
VERSION:2.0
METHOD:PUBLISH
BEGIN:VEVENT
DTSTART:20240817T093000Z
DTEND:20240817T103000Z
LOCATION:Kindli\, \,
TRANSP:OPAQUE
SEQUENCE:0
UID:639-veranstaltung@kirchgemeinde-gersau.ch
DTSTAMP:20240627T073142Z
DESCRIPTION:Kontakt: urs.heini@kirchgemeinde-gersau.ch\n\nWeitere Infos:
  https://www.kirchgemeinde-gersau.ch/veranstaltung/639
SUMMARY:Taufe Lynn Camenzind
PRIORITY:5
X-MICROSOFT-CDO-IMPORTANCE:1
CLASS:PUBLIC
END:VEVENT
END:VCALENDAR
