BEGIN:VCALENDAR
PRODID:-//kirchenweb.ch gmbh//veranstaltungsausgabe v2.0//DE
VERSION:2.0
METHOD:PUBLISH
BEGIN:VEVENT
DTSTART:20240815T080000Z
DTEND:20240815T090000Z
LOCATION:Rigi Scheidegg\, \,
TRANSP:OPAQUE
SEQUENCE:0
UID:638-veranstaltung@kirchgemeinde-gersau.ch
DTSTAMP:20240627T072959Z
DESCRIPTION:Kontakt: urs.heini@kirchgemeinde-gersau.ch\n\nWeitere Infos:
  https://www.kirchgemeinde-gersau.ch/veranstaltung/638
SUMMARY:Eucharistiefeier Rigi Scheidegg Mariä Himmelfahrt
PRIORITY:5
X-MICROSOFT-CDO-IMPORTANCE:1
CLASS:PUBLIC
END:VEVENT
END:VCALENDAR
