BEGIN:VCALENDAR
PRODID:-//kirchenweb.ch gmbh//veranstaltungsausgabe v2.0//DE
VERSION:2.0
METHOD:PUBLISH
BEGIN:VEVENT
DTSTART:20240725T070000Z
DTEND:20240725T080000Z
LOCATION:Käppeliberg\, \,
TRANSP:OPAQUE
SEQUENCE:0
UID:636-veranstaltung@kirchgemeinde-gersau.ch
DTSTAMP:20240628T121032Z
DESCRIPTION:Am Jakobstag feiert die Sennengesellschaft\nvon Gersau ihren
  Dank- und Bittgottesdienst im Käppeliberg. Diese Tradition geht zurück
  auf die grosse Viehseuche von 1593.Pater Marzell Camenzind vom
  Kapuzinerkloster wird den Gottesdienst feiern. Die Feier beginnt um 09.00
  Uhr in der Josefskapelle. Danach lädt die Familie Camenzind die
  Besucherinnen und Besucher zu einem feinen Znüni ein. Um 11.00 Uhr
 \nstartet dann die traditionelle Sennengemeinde im Holzbüel. \nDer
  Sennenrat und die\nPfarrei freuen sich über alle Mitfeiernden.\n
 \nKontakt: urs.heini@kirchgemeinde-gersau.ch\n\nWeitere Infos:
  https://www.kirchgemeinde-gersau.ch/veranstaltung/636
SUMMARY:Eucharistiefeier im Käppeliberg/Jakobstag
PRIORITY:5
X-MICROSOFT-CDO-IMPORTANCE:1
CLASS:PUBLIC
END:VEVENT
END:VCALENDAR
