BEGIN:VCALENDAR
PRODID:-//kirchenweb.ch gmbh//veranstaltungsausgabe v2.0//DE
VERSION:2.0
METHOD:PUBLISH
BEGIN:VEVENT
DTSTART:20240825T084500Z
DTEND:20240825T094500Z
LOCATION:Altersheim Rosenpark\, \,
TRANSP:OPAQUE
SEQUENCE:0
UID:627-veranstaltung@kirchgemeinde-gersau.ch
DTSTAMP:20240626T084442Z
DESCRIPTION:Eucharistiefeier\n\nKontakt: urs.heini@kirchgemeinde-gersau.ch
 \n\nWeitere Infos: https://www.kirchgemeinde-gersau.ch/veranstaltung/627
SUMMARY:Euchariestiefeier Altersheim
PRIORITY:5
X-MICROSOFT-CDO-IMPORTANCE:1
CLASS:PUBLIC
END:VEVENT
END:VCALENDAR
