BEGIN:VCALENDAR
PRODID:-//kirchenweb.ch gmbh//veranstaltungsausgabe v2.0//DE
VERSION:2.0
METHOD:PUBLISH
BEGIN:VEVENT
DTSTART:20240908T080000Z
DTEND:20240908T090000Z
LOCATION:Rigi Scheidegg\, \,
TRANSP:OPAQUE
SEQUENCE:0
UID:572-veranstaltung@kirchgemeinde-gersau.ch
DTSTAMP:20240523T064715Z
DESCRIPTION:Kontakt: sandra.schilliger@kirchgemeinde-gersau.ch\n\nWeitere
  Infos: https://www.kirchgemeinde-gersau.ch/veranstaltung/572
SUMMARY:Eucharistiefeier / Alpdank-Gottesdienst
PRIORITY:5
X-MICROSOFT-CDO-IMPORTANCE:1
CLASS:PUBLIC
END:VEVENT
END:VCALENDAR
