BEGIN:VCALENDAR
PRODID:-//kirchenweb.ch gmbh//veranstaltungsausgabe v2.0//DE
VERSION:2.0
METHOD:PUBLISH
BEGIN:VEVENT
DTSTART:20240901T084500Z
DTEND:20240901T094500Z
LOCATION:Altersheim\, \,
TRANSP:OPAQUE
SEQUENCE:0
UID:566-veranstaltung@kirchgemeinde-gersau.ch
DTSTAMP:20240523T064140Z
DESCRIPTION:Eucharistiefeier\n\nKontakt:
  sandra.schilliger@kirchgemeinde-gersau.ch\n\nWeitere Infos:
  https://www.kirchgemeinde-gersau.ch/veranstaltung/566
SUMMARY:Eucharistiefeier Altersheim
PRIORITY:5
X-MICROSOFT-CDO-IMPORTANCE:1
CLASS:PUBLIC
END:VEVENT
END:VCALENDAR
