BEGIN:VCALENDAR
PRODID:-//kirchenweb.ch gmbh//veranstaltungsausgabe v2.0//DE
VERSION:2.0
METHOD:PUBLISH
BEGIN:VEVENT
DTSTART:20240915T073000Z
DTEND:20240915T083000Z
LOCATION:Pfarrkirche Gersau\, \,
TRANSP:OPAQUE
SEQUENCE:0
UID:559-veranstaltung@kirchgemeinde-gersau.ch
DTSTAMP:20240828T103032Z
DESCRIPTION:Eucharistiefeier\nAnschliessend Apéro für die Pfarrei.\n
 \nKontakt: sandra.schilliger@kirchgemeinde-gersau.ch\n\nWeitere Infos:
  https://www.kirchgemeinde-gersau.ch/veranstaltung/559
SUMMARY:Eucharistiefeier Dank-\, Buss- und Bettag
PRIORITY:5
X-MICROSOFT-CDO-IMPORTANCE:1
CLASS:PUBLIC
END:VEVENT
END:VCALENDAR
