BEGIN:VCALENDAR
PRODID:-//kirchenweb.ch gmbh//veranstaltungsausgabe v2.0//DE
VERSION:2.0
METHOD:PUBLISH
BEGIN:VEVENT
DTSTART:20240824T130000Z
DTEND:20240824T140000Z
LOCATION:Pfarrkirche Gersau\, \,
TRANSP:OPAQUE
SEQUENCE:0
UID:556-veranstaltung@kirchgemeinde-gersau.ch
DTSTAMP:20240523T063729Z
DESCRIPTION:Kontakt: sandra.schilliger@kirchgemeinde-gersau.ch\n\nWeitere
  Infos: https://www.kirchgemeinde-gersau.ch/veranstaltung/556
SUMMARY:Hochzeit Deborah Spathelf und Aleksandar Antic
PRIORITY:5
X-MICROSOFT-CDO-IMPORTANCE:1
CLASS:PUBLIC
END:VEVENT
END:VCALENDAR
