BEGIN:VCALENDAR
PRODID:-//kirchenweb.ch gmbh//veranstaltungsausgabe v2.0//DE
VERSION:2.0
METHOD:PUBLISH
BEGIN:VEVENT
DTSTART:20240818T090000Z
DTEND:20240818T100000Z
LOCATION:Rigi Hochflue\, \,
TRANSP:OPAQUE
SEQUENCE:0
UID:555-veranstaltung@kirchgemeinde-gersau.ch
DTSTAMP:20240523T063336Z
DESCRIPTION:Kontakt: sandra.schilliger@kirchgemeinde-gersau.ch\n\nWeitere
  Infos: https://www.kirchgemeinde-gersau.ch/veranstaltung/555
SUMMARY:Gottesdienst auf Rigi-Hochflue
PRIORITY:5
X-MICROSOFT-CDO-IMPORTANCE:1
CLASS:PUBLIC
END:VEVENT
END:VCALENDAR
