BEGIN:VCALENDAR
PRODID:-//kirchenweb.ch gmbh//veranstaltungsausgabe v2.0//DE
VERSION:2.0
METHOD:PUBLISH
BEGIN:VEVENT
DTSTART:20240815T073000Z
DTEND:20240815T083000Z
LOCATION:Kindli\, \,
TRANSP:OPAQUE
SEQUENCE:0
UID:554-veranstaltung@kirchgemeinde-gersau.ch
DTSTAMP:20240806T070504Z
DESCRIPTION:Mit musikalischer Umrahmung des Klarinettenensemble der
  Feldmusik Gersau\n\nKontakt: sandra.schilliger@kirchgemeinde-gersau.ch\n
 \nWeitere Infos: https://www.kirchgemeinde-gersau.ch/veranstaltung/554
SUMMARY:Eucharistiefeier / Mariä Himmelfahrt
PRIORITY:5
X-MICROSOFT-CDO-IMPORTANCE:1
CLASS:PUBLIC
END:VEVENT
END:VCALENDAR
