BEGIN:VCALENDAR
PRODID:-//kirchenweb.ch gmbh//veranstaltungsausgabe v2.0//DE
VERSION:2.0
METHOD:PUBLISH
BEGIN:VEVENT
DTSTART:20240815T084500Z
DTEND:20240815T094500Z
LOCATION:Altersheim\, \,
TRANSP:OPAQUE
SEQUENCE:0
UID:551-veranstaltung@kirchgemeinde-gersau.ch
DTSTAMP:20240626T090146Z
DESCRIPTION:Eucharistiefeier\n\nKontakt:
  sandra.schilliger@kirchgemeinde-gersau.ch\n\nWeitere Infos:
  https://www.kirchgemeinde-gersau.ch/veranstaltung/551
SUMMARY:Eucharistiefeier Altersheim Mariä Himmelfahrt
PRIORITY:5
X-MICROSOFT-CDO-IMPORTANCE:1
CLASS:PUBLIC
END:VEVENT
END:VCALENDAR
