BEGIN:VCALENDAR
PRODID:-//kirchenweb.ch gmbh//veranstaltungsausgabe v2.0//DE
VERSION:2.0
METHOD:PUBLISH
BEGIN:VEVENT
DTSTART:20240818T073000Z
DTEND:20240818T083000Z
LOCATION:Pfarrkirche Gersau\, \,
TRANSP:OPAQUE
SEQUENCE:0
UID:547-veranstaltung@kirchgemeinde-gersau.ch
DTSTAMP:20240523T062811Z
DESCRIPTION:Eucharistiefeier\n\nKontakt:
  sandra.schilliger@kirchgemeinde-gersau.ch\n\nWeitere Infos:
  https://www.kirchgemeinde-gersau.ch/veranstaltung/547
SUMMARY:Eucharistiefeier
PRIORITY:5
X-MICROSOFT-CDO-IMPORTANCE:1
CLASS:PUBLIC
END:VEVENT
END:VCALENDAR
