BEGIN:VCALENDAR
PRODID:-//kirchenweb.ch gmbh//veranstaltungsausgabe v2.0//DE
VERSION:2.0
METHOD:PUBLISH
BEGIN:VEVENT
DTSTART:20240801T073000Z
DTEND:20240801T083000Z
LOCATION:Seebühne\, \,
TRANSP:OPAQUE
SEQUENCE:0
UID:538-veranstaltung@kirchgemeinde-gersau.ch
DTSTAMP:20240626T075605Z
DESCRIPTION:Die Bundesfeier findet bei schönem Wetter auf der Seebühne
  statt.\n09.30 Uhr ist Eucharistiefeier\n10.30 Uhr wird die Festwirtschaft
  eröffnet\n10.45 Uhr beginnt die offizielle Feier.\nBei Regenwetter
  findet der Gottesdienst in der Pfarrkirche statt und die Bundesfeier in
  der Aula.\n\nKontakt: sandra.schilliger@kirchgemeinde-gersau.ch\n
 \nWeitere Infos: https://www.kirchgemeinde-gersau.ch/veranstaltung/538
SUMMARY:Eucharistiefeier Nationalfeiertag 1. August
PRIORITY:5
X-MICROSOFT-CDO-IMPORTANCE:1
CLASS:PUBLIC
END:VEVENT
END:VCALENDAR
