BEGIN:VCALENDAR
PRODID:-//kirchenweb.ch gmbh//veranstaltungsausgabe v2.0//DE
VERSION:2.0
METHOD:PUBLISH
BEGIN:VEVENT
DTSTART:20240728T080000Z
DTEND:20240728T090000Z
LOCATION:Scheidegg\, \,
TRANSP:OPAQUE
SEQUENCE:0
UID:536-veranstaltung@kirchgemeinde-gersau.ch
DTSTAMP:20240628T120557Z
DESCRIPTION:Das traditionelle Kirchweihfest beginnt um 10.00 Uhr in der
  Bergkapelle Rigi-Scheidegg mit der Heiligen Messe\, untermalt mit
  Jodlerklängen. Ab Mittag werden sie in den Berggasthaus Rigi-Scheidegg
  musikalisch unterhalten. Zudem findet eine grosse Tombola statt und für
  die kleinen Gäste organisiert der Skiclub Rigi Hochfluh Spiele.\n
 \nKontakt: sandra.schilliger@kirchgemeinde-gersau.ch\n\nWeitere Infos:
  https://www.kirchgemeinde-gersau.ch/veranstaltung/536
SUMMARY:Eucharistiefeier / Scheidegg Chilbi
PRIORITY:5
X-MICROSOFT-CDO-IMPORTANCE:1
CLASS:PUBLIC
END:VEVENT
END:VCALENDAR
