BEGIN:VCALENDAR
PRODID:-//kirchenweb.ch gmbh//veranstaltungsausgabe v2.0//DE
VERSION:2.0
METHOD:PUBLISH
BEGIN:VEVENT
DTSTART:20240727T180000Z
DTEND:20240727T190000Z
LOCATION:Seebühne / Pfarrkirche Gersau \, \,
TRANSP:OPAQUE
SEQUENCE:0
UID:535-veranstaltung@kirchgemeinde-gersau.ch
DTSTAMP:20240523T062040Z
DESCRIPTION:Kontakt: sandra.schilliger@kirchgemeinde-gersau.ch\n\nWeitere
  Infos: https://www.kirchgemeinde-gersau.ch/veranstaltung/535
SUMMARY:Stradivari Fest / Serenade am See
PRIORITY:5
X-MICROSOFT-CDO-IMPORTANCE:1
CLASS:PUBLIC
END:VEVENT
END:VCALENDAR
