BEGIN:VCALENDAR
PRODID:-//kirchenweb.ch gmbh//veranstaltungsausgabe v2.0//DE
VERSION:2.0
METHOD:PUBLISH
BEGIN:VEVENT
DTSTART:20240725T190000Z
DTEND:20240725T200000Z
LOCATION:Kindli\, \,
TRANSP:OPAQUE
SEQUENCE:0
UID:534-veranstaltung@kirchgemeinde-gersau.ch
DTSTAMP:20240523T061928Z
DESCRIPTION:Kontakt: sandra.schilliger@kirchgemeinde-gersau.ch\n\nWeitere
  Infos: https://www.kirchgemeinde-gersau.ch/veranstaltung/534
SUMMARY:Stradivari Fest/ Kerzenlichtkonzert
PRIORITY:5
X-MICROSOFT-CDO-IMPORTANCE:1
CLASS:PUBLIC
END:VEVENT
END:VCALENDAR
