BEGIN:VCALENDAR
PRODID:-//kirchenweb.ch gmbh//veranstaltungsausgabe v2.0//DE
VERSION:2.0
METHOD:PUBLISH
BEGIN:VEVENT
DTSTART:20260503T180000Z
DTEND:20260503T190000Z
LOCATION:Käppeliberg\, \,
TRANSP:OPAQUE
SEQUENCE:0
UID:1229-veranstaltung@kirchgemeinde-gersau.ch
DTSTAMP:20260402T075458Z
DESCRIPTION:Eucharistiefeier zum Beginn des Marienmonats Mai\n\nKontakt:
  sandra.schilliger@kirchgemeinde-gersau.ch\n\nWeitere Infos:
  https://www.kirchgemeinde-gersau.ch/veranstaltung/1229
SUMMARY:Eucharistiefeier
PRIORITY:5
X-MICROSOFT-CDO-IMPORTANCE:1
CLASS:PUBLIC
END:VEVENT
END:VCALENDAR
